BEGIN:VCALENDAR
VERSION:2.0
PRODID:-//BFTO - ECPv6.15.20//NONSGML v1.0//EN
CALSCALE:GREGORIAN
METHOD:PUBLISH
X-ORIGINAL-URL:https://bfto.org.uk
X-WR-CALDESC:Events for BFTO
REFRESH-INTERVAL;VALUE=DURATION:PT1H
X-Robots-Tag:noindex
X-PUBLISHED-TTL:PT1H
BEGIN:VTIMEZONE
TZID:Europe/London
BEGIN:DAYLIGHT
TZOFFSETFROM:+0000
TZOFFSETTO:+0100
TZNAME:BST
DTSTART:20250330T010000
END:DAYLIGHT
BEGIN:STANDARD
TZOFFSETFROM:+0100
TZOFFSETTO:+0000
TZNAME:GMT
DTSTART:20251026T010000
END:STANDARD
BEGIN:DAYLIGHT
TZOFFSETFROM:+0000
TZOFFSETTO:+0100
TZNAME:BST
DTSTART:20260329T010000
END:DAYLIGHT
BEGIN:STANDARD
TZOFFSETFROM:+0100
TZOFFSETTO:+0000
TZNAME:GMT
DTSTART:20261025T010000
END:STANDARD
BEGIN:DAYLIGHT
TZOFFSETFROM:+0000
TZOFFSETTO:+0100
TZNAME:BST
DTSTART:20270328T010000
END:DAYLIGHT
BEGIN:STANDARD
TZOFFSETFROM:+0100
TZOFFSETTO:+0000
TZNAME:GMT
DTSTART:20271031T010000
END:STANDARD
END:VTIMEZONE
BEGIN:VEVENT
DTSTART;TZID=Europe/London:20260531T080000
DTEND;TZID=Europe/London:20260531T170000
DTSTAMP:20260419T150523
CREATED:20260104T163719Z
LAST-MODIFIED:20260104T163802Z
UID:17998-1780214400-1780246800@bfto.org.uk
SUMMARY:SIHFT - Round 2 - Mile Oak Shooting Club
DESCRIPTION:SIHFT – Round 2 \nThis round of the SIHFT event does not take place at Bisley Field Target Organisation and so BFTO ranges are unaffected. \nFor more information about HFT events taking part at or away from BFTO\, please speak to Zac Baker at the club.
URL:https://bfto.org.uk/event/sihft-round-2-mile-oak-shooting-club/
LOCATION:Mile Oak Shooting Club\, Mile Oak Farm\, Portslade\, Brighton\, BN41 2RF\, United Kingdom
CATEGORIES:SIHFT HFT Event
END:VEVENT
END:VCALENDAR