BEGIN:VCALENDAR
VERSION:2.0
PRODID:-//BFTO - ECPv6.15.20//NONSGML v1.0//EN
CALSCALE:GREGORIAN
METHOD:PUBLISH
X-ORIGINAL-URL:https://bfto.org.uk
X-WR-CALDESC:Events for BFTO
REFRESH-INTERVAL;VALUE=DURATION:PT1H
X-Robots-Tag:noindex
X-PUBLISHED-TTL:PT1H
BEGIN:VTIMEZONE
TZID:Europe/London
BEGIN:DAYLIGHT
TZOFFSETFROM:+0000
TZOFFSETTO:+0100
TZNAME:BST
DTSTART:20250330T010000
END:DAYLIGHT
BEGIN:STANDARD
TZOFFSETFROM:+0100
TZOFFSETTO:+0000
TZNAME:GMT
DTSTART:20251026T010000
END:STANDARD
BEGIN:DAYLIGHT
TZOFFSETFROM:+0000
TZOFFSETTO:+0100
TZNAME:BST
DTSTART:20260329T010000
END:DAYLIGHT
BEGIN:STANDARD
TZOFFSETFROM:+0100
TZOFFSETTO:+0000
TZNAME:GMT
DTSTART:20261025T010000
END:STANDARD
BEGIN:DAYLIGHT
TZOFFSETFROM:+0000
TZOFFSETTO:+0100
TZNAME:BST
DTSTART:20270328T010000
END:DAYLIGHT
BEGIN:STANDARD
TZOFFSETFROM:+0100
TZOFFSETTO:+0000
TZNAME:GMT
DTSTART:20271031T010000
END:STANDARD
END:VTIMEZONE
BEGIN:VEVENT
DTSTART;TZID=Europe/London:20260104T080000
DTEND;TZID=Europe/London:20260104T170000
DTSTAMP:20260419T130608
CREATED:20260102T215734Z
LAST-MODIFIED:20260104T152310Z
UID:17638-1767513600-1767546000@bfto.org.uk
SUMMARY:Southern Hunters HFT - Round 3 - Meon Valley Airgun Club (MVAC)
DESCRIPTION:Southern Hunters HFT – Round 3 \nThis round of the Southern Hunters HFT event does not take place at Bisley Field Target Organisation and so BFTO ranges are unaffected. \nFor more information about HFT events taking part at or away from BFTO\, please speak to Zac Baker at the club.
URL:https://bfto.org.uk/event/southern-hunters-hft-round-3-meon/
LOCATION:Meon Valley Airgun Club (MVAC)\, Meon Valley\, (Hen Woods)\, Surrey\, GU32 1HY\, United Kingdom
CATEGORIES:Southern Hunters HFT Event
END:VEVENT
END:VCALENDAR