BEGIN:VCALENDAR
VERSION:2.0
PRODID:-//BFTO - ECPv6.15.20//NONSGML v1.0//EN
CALSCALE:GREGORIAN
METHOD:PUBLISH
X-ORIGINAL-URL:https://bfto.org.uk
X-WR-CALDESC:Events for BFTO
REFRESH-INTERVAL;VALUE=DURATION:PT1H
X-Robots-Tag:noindex
X-PUBLISHED-TTL:PT1H
BEGIN:VTIMEZONE
TZID:Europe/London
BEGIN:DAYLIGHT
TZOFFSETFROM:+0000
TZOFFSETTO:+0100
TZNAME:BST
DTSTART:20250330T010000
END:DAYLIGHT
BEGIN:STANDARD
TZOFFSETFROM:+0100
TZOFFSETTO:+0000
TZNAME:GMT
DTSTART:20251026T010000
END:STANDARD
BEGIN:DAYLIGHT
TZOFFSETFROM:+0000
TZOFFSETTO:+0100
TZNAME:BST
DTSTART:20260329T010000
END:DAYLIGHT
BEGIN:STANDARD
TZOFFSETFROM:+0100
TZOFFSETTO:+0000
TZNAME:GMT
DTSTART:20261025T010000
END:STANDARD
BEGIN:DAYLIGHT
TZOFFSETFROM:+0000
TZOFFSETTO:+0100
TZNAME:BST
DTSTART:20270328T010000
END:DAYLIGHT
BEGIN:STANDARD
TZOFFSETFROM:+0100
TZOFFSETTO:+0000
TZNAME:GMT
DTSTART:20271031T010000
END:STANDARD
END:VTIMEZONE
BEGIN:VEVENT
DTSTART;TZID=Europe/London:20260321T080000
DTEND;TZID=Europe/London:20260321T170000
DTSTAMP:20260422T100509
CREATED:20260102T172531Z
LAST-MODIFIED:20260102T172531Z
UID:17430-1774080000-1774112400@bfto.org.uk
SUMMARY:BFTO Work Party (March)
DESCRIPTION:BFTO will be holding a Work Party Day on Saturday 21st March. Please note that all ranges will be closed until works are complete. We invite all members who can offer their time and skills to help with a variety of general club maintenance tasks—your support is greatly appreciated in keeping our facilities in top shape. This is a great opportunity to get involved\, meet other members\, and contribute to the club’s upkeep. Probationary members are also welcome and will receive a signature towards their probationary requirements for attending. We look forward to seeing as many of you as possible!
URL:https://bfto.org.uk/event/bfto-work-party-march/
LOCATION:Bisley Field Target Organisation\, Elcho Road\, Bisley\, Surrey\, GU24 0NY\, United Kingdom
CATEGORIES:BFTO Work Party Event
END:VEVENT
END:VCALENDAR